BEGIN:VCALENDAR
VERSION:2.0
PRODID:-//RNTF - ECPv6.15.20//NONSGML v1.0//EN
CALSCALE:GREGORIAN
METHOD:PUBLISH
X-ORIGINAL-URL:https://rntfnd.org
X-WR-CALDESC:Events for RNTF
REFRESH-INTERVAL;VALUE=DURATION:PT1H
X-Robots-Tag:noindex
X-PUBLISHED-TTL:PT1H
BEGIN:VTIMEZONE
TZID:America/New_York
BEGIN:DAYLIGHT
TZOFFSETFROM:-0500
TZOFFSETTO:-0400
TZNAME:EDT
DTSTART:20240310T070000
END:DAYLIGHT
BEGIN:STANDARD
TZOFFSETFROM:-0400
TZOFFSETTO:-0500
TZNAME:EST
DTSTART:20241103T060000
END:STANDARD
BEGIN:DAYLIGHT
TZOFFSETFROM:-0500
TZOFFSETTO:-0400
TZNAME:EDT
DTSTART:20250309T070000
END:DAYLIGHT
BEGIN:STANDARD
TZOFFSETFROM:-0400
TZOFFSETTO:-0500
TZNAME:EST
DTSTART:20251102T060000
END:STANDARD
BEGIN:DAYLIGHT
TZOFFSETFROM:-0500
TZOFFSETTO:-0400
TZNAME:EDT
DTSTART:20260308T070000
END:DAYLIGHT
BEGIN:STANDARD
TZOFFSETFROM:-0400
TZOFFSETTO:-0500
TZNAME:EST
DTSTART:20261101T060000
END:STANDARD
END:VTIMEZONE
BEGIN:VEVENT
DTSTART;TZID=America/New_York:20250908T180000
DTEND;TZID=America/New_York:20250908T200000
DTSTAMP:20260423T065928
CREATED:20251210T180308Z
LAST-MODIFIED:20251216T192105Z
UID:68088-1757354400-1757361600@rntfnd.org
SUMMARY:Faga & Navigator Society No-Host Dinner
DESCRIPTION:★ RNT Foundation Member-Only Event ★ \nPlease note: This event is exclusively for our Faga and Navigator Society level members. A “no-host” dinner means that while arrangements have been made\, each attendee is responsible for paying for their own meal and drinks. We look forward to an evening of great conversation and camaraderie! \nRSVP: Email Holly@rntfnd.org
URL:https://rntfnd.org/event/faga-navigator-society-no-host-dinner-092025/
LOCATION:Inner Harbor\, Baltimore\, MD\, United States
CATEGORIES:Member-Only Event
ATTACH;FMTTYPE=image/png:https://rntfnd.org/wp-content/uploads/13.png
END:VEVENT
BEGIN:VEVENT
DTSTART;VALUE=DATE:20250909
DTEND;VALUE=DATE:20250910
DTSTAMP:20260423T065928
CREATED:20251210T130533Z
LAST-MODIFIED:20251216T200430Z
UID:68093-1757376000-1757462399@rntfnd.org
SUMMARY:PNT Leadership Summit
DESCRIPTION:★ This event is by invitation only ★
URL:https://rntfnd.org/event/pnt-leadership-summit/
LOCATION:Baltimore Marriott Inner Harbor at Camden Yards\, Baltimore\, MD\, United States
CATEGORIES:Member-Only Event
ATTACH;FMTTYPE=image/png:https://rntfnd.org/wp-content/uploads/RNTF-Newsletter-Article-Blocks-215-x-140-px-9.png
END:VEVENT
END:VCALENDAR