BEGIN:VCALENDAR
VERSION:2.0
PRODID:-//RNTF - ECPv6.15.20//NONSGML v1.0//EN
CALSCALE:GREGORIAN
METHOD:PUBLISH
X-WR-CALNAME:RNTF
X-ORIGINAL-URL:https://rntfnd.org
X-WR-CALDESC:Events for RNTF
REFRESH-INTERVAL;VALUE=DURATION:PT1H
X-Robots-Tag:noindex
X-PUBLISHED-TTL:PT1H
BEGIN:VTIMEZONE
TZID:America/New_York
BEGIN:DAYLIGHT
TZOFFSETFROM:-0500
TZOFFSETTO:-0400
TZNAME:EDT
DTSTART:20250309T070000
END:DAYLIGHT
BEGIN:STANDARD
TZOFFSETFROM:-0400
TZOFFSETTO:-0500
TZNAME:EST
DTSTART:20251102T060000
END:STANDARD
BEGIN:DAYLIGHT
TZOFFSETFROM:-0500
TZOFFSETTO:-0400
TZNAME:EDT
DTSTART:20260308T070000
END:DAYLIGHT
BEGIN:STANDARD
TZOFFSETFROM:-0400
TZOFFSETTO:-0500
TZNAME:EST
DTSTART:20261101T060000
END:STANDARD
BEGIN:DAYLIGHT
TZOFFSETFROM:-0500
TZOFFSETTO:-0400
TZNAME:EDT
DTSTART:20270314T070000
END:DAYLIGHT
BEGIN:STANDARD
TZOFFSETFROM:-0400
TZOFFSETTO:-0500
TZNAME:EST
DTSTART:20271107T060000
END:STANDARD
END:VTIMEZONE
BEGIN:VEVENT
DTSTART;VALUE=DATE:20260420
DTEND;VALUE=DATE:20260422
DTSTAMP:20260421T013723
CREATED:20251216T194506Z
LAST-MODIFIED:20260401T152646Z
UID:68317-1776643200-1776815999@rntfnd.org
SUMMARY:U.S. Civil GPS Service Interface Committee (CGSIC) Meeting
DESCRIPTION:Members of the board of the RNT Foundation will be in attendance and we encourage the community to participate as well. \nAgenda for the CGSIC Subcommittee and Plenary sessions will include presentations on the operational status and modernization of the GPS constellation of satellites\, U.S. space-based PNT national policy\, GPS augmentation systems\, information related to U.S. engagement with other international Global Navigation Satellite Systems (GNSS) as well as innovative and evolving applications and uses of GPS. Final Agenda and Virtual Participation links will be published on GPS.gov.
URL:https://rntfnd.org/event/u-s-civil-gps-service-interface-committee-cgsic-meeting/
LOCATION:Department of Transportation Headquarters\, Washington\, DC\, 1200 New Jersey Ave SE\, Washington\, DC\, 20590
ATTACH;FMTTYPE=image/png:https://rntfnd.org/wp-content/uploads/11.png
END:VEVENT
END:VCALENDAR